BEGIN:VCALENDAR
VERSION:2.0
PRODID:-//ironwood-womens-centers - ECPv6.0.0.1//NONSGML v1.0//EN
CALSCALE:GREGORIAN
METHOD:PUBLISH
X-ORIGINAL-URL:https://www.ironwoodwomenscenters.com
X-WR-CALDESC:Events for ironwood-womens-centers
REFRESH-INTERVAL;VALUE=DURATION:PT1H
X-Robots-Tag:noindex
X-PUBLISHED-TTL:PT1H
BEGIN:VTIMEZONE
TZID:America/Denver
BEGIN:DAYLIGHT
TZOFFSETFROM:-0700
TZOFFSETTO:-0600
TZNAME:MDT
DTSTART:20200308T090000
END:DAYLIGHT
BEGIN:STANDARD
TZOFFSETFROM:-0600
TZOFFSETTO:-0700
TZNAME:MST
DTSTART:20201101T080000
END:STANDARD
END:VTIMEZONE
BEGIN:VEVENT
DTSTART;TZID=America/Denver:20201029T173000
DTEND;TZID=America/Denver:20201029T180000
DTSTAMP:20260424T135252
CREATED:20201008T211414Z
LAST-MODIFIED:20201008T211414Z
UID:8497-1603992600-1603994400@www.ironwoodwomenscenters.com
SUMMARY:Hearftullness Meditation
DESCRIPTION:
URL:https://www.ironwoodwomenscenters.com/event/hearftullness-meditation/
CATEGORIES:Virtual event,Wellness
END:VEVENT
BEGIN:VEVENT
DTSTART;TZID=America/Denver:20201028T150000
DTEND;TZID=America/Denver:20201028T163000
DTSTAMP:20260424T135252
CREATED:20201008T212757Z
LAST-MODIFIED:20201008T212757Z
UID:8519-1603897200-1603902600@www.ironwoodwomenscenters.com
SUMMARY:Metastatic Cancer Support Group
DESCRIPTION:
URL:https://www.ironwoodwomenscenters.com/event/metastatic-cancer-support-group-5/
CATEGORIES:Support Group,Virtual event
END:VEVENT
BEGIN:VEVENT
DTSTART;TZID=America/Denver:20201028T100000
DTEND;TZID=America/Denver:20201028T110000
DTSTAMP:20260424T135252
CREATED:20201008T212223Z
LAST-MODIFIED:20201008T212223Z
UID:8507-1603879200-1603882800@www.ironwoodwomenscenters.com
SUMMARY:Chair Yoga
DESCRIPTION:
URL:https://www.ironwoodwomenscenters.com/event/chair-yoga-42/
CATEGORIES:Virtual event,Wellness
END:VEVENT
BEGIN:VEVENT
DTSTART;TZID=America/Denver:20201027T110000
DTEND;TZID=America/Denver:20201027T120000
DTSTAMP:20260424T135252
CREATED:20201008T212720Z
LAST-MODIFIED:20201008T212720Z
UID:8517-1603796400-1603800000@www.ironwoodwomenscenters.com
SUMMARY:Live Lunch and Learn: Breast Cancer w/ Dr. Vaidya
DESCRIPTION:
URL:https://www.ironwoodwomenscenters.com/event/live-lunch-and-learn-breast-cancer-w-dr-vaidya/
CATEGORIES:Special Event,Virtual event
END:VEVENT
BEGIN:VEVENT
DTSTART;TZID=America/Denver:20201027T110000
DTEND;TZID=America/Denver:20201027T120000
DTSTAMP:20260424T135252
CREATED:20200921T173144Z
LAST-MODIFIED:20200921T173144Z
UID:8455-1603796400-1603800000@www.ironwoodwomenscenters.com
SUMMARY:SCS Virtual Lunch & Learn: Breast Cancer Myths & Facts with Dr. Rashmi Vaidya
DESCRIPTION:
URL:https://www.ironwoodwomenscenters.com/event/scs-virtual-lunch-learn-breast-cancer-myths-facts-with-dr-rashmi-vaidya/
CATEGORIES:Virtual event
END:VEVENT
BEGIN:VEVENT
DTSTART;TZID=America/Denver:20201022T173000
DTEND;TZID=America/Denver:20201022T180000
DTSTAMP:20260424T135252
CREATED:20201008T211048Z
LAST-MODIFIED:20201008T211048Z
UID:8495-1603387800-1603389600@www.ironwoodwomenscenters.com
SUMMARY:Heartfullness Meditation
DESCRIPTION:
URL:https://www.ironwoodwomenscenters.com/event/heartfullness-meditation-15/
CATEGORIES:Virtual event,Wellness
END:VEVENT
BEGIN:VEVENT
DTSTART;TZID=America/Denver:20201021T170000
DTEND;TZID=America/Denver:20201021T183000
DTSTAMP:20260424T135252
CREATED:20201008T212448Z
LAST-MODIFIED:20201008T212448Z
UID:8513-1603299600-1603305000@www.ironwoodwomenscenters.com
SUMMARY:General Cancer Support Group
DESCRIPTION:
URL:https://www.ironwoodwomenscenters.com/event/general-cancer-support-group-20/
CATEGORIES:Support Group,Virtual event
END:VEVENT
BEGIN:VEVENT
DTSTART;TZID=America/Denver:20201020T110000
DTEND;TZID=America/Denver:20201020T120000
DTSTAMP:20260424T135252
CREATED:20200921T172749Z
LAST-MODIFIED:20200921T172749Z
UID:8453-1603191600-1603195200@www.ironwoodwomenscenters.com
SUMMARY:SCS Virtual Lunch & Learn: Should I do Surveillance Radiation or Surgery with Dr. Eric T. Gross
DESCRIPTION:
URL:https://www.ironwoodwomenscenters.com/event/scs-virtual-lunch-learn-should-i-do-surveillance-radiation-or-surgery-with-dr-eric-t-gross/
CATEGORIES:Virtual event
END:VEVENT
BEGIN:VEVENT
DTSTART;TZID=America/Denver:20201017T100000
DTEND;TZID=America/Denver:20201017T120000
DTSTAMP:20260424T135252
CREATED:20201008T212406Z
LAST-MODIFIED:20201008T212406Z
UID:8511-1602928800-1602936000@www.ironwoodwomenscenters.com
SUMMARY:Caregiver Support Group
DESCRIPTION:
URL:https://www.ironwoodwomenscenters.com/event/caregiver-support-group-7/
CATEGORIES:Support Group,Virtual event
END:VEVENT
BEGIN:VEVENT
DTSTART;TZID=America/Denver:20201015T173000
DTEND;TZID=America/Denver:20201015T180000
DTSTAMP:20260424T135252
CREATED:20201008T211012Z
LAST-MODIFIED:20201008T211012Z
UID:8493-1602783000-1602784800@www.ironwoodwomenscenters.com
SUMMARY:Heartfullness Meditation
DESCRIPTION:
URL:https://www.ironwoodwomenscenters.com/event/heartfullness-meditation-14/
CATEGORIES:Virtual event,Wellness
END:VEVENT
BEGIN:VEVENT
DTSTART;TZID=America/Denver:20201014T160000
DTEND;TZID=America/Denver:20201014T180000
DTSTAMP:20260424T135252
CREATED:20201008T212301Z
LAST-MODIFIED:20201008T212301Z
UID:8509-1602691200-1602698400@www.ironwoodwomenscenters.com
SUMMARY:General Cancer Support Group
DESCRIPTION:
URL:https://www.ironwoodwomenscenters.com/event/general-cancer-support-group-19/
CATEGORIES:Support Group,Virtual event
END:VEVENT
BEGIN:VEVENT
DTSTART;TZID=America/Denver:20201014T100000
DTEND;TZID=America/Denver:20201014T110000
DTSTAMP:20260424T135252
CREATED:20201008T212151Z
LAST-MODIFIED:20201008T212151Z
UID:8505-1602669600-1602673200@www.ironwoodwomenscenters.com
SUMMARY:Chair Yoga
DESCRIPTION:
URL:https://www.ironwoodwomenscenters.com/event/chair-yoga-41/
CATEGORIES:Virtual event,Wellness
END:VEVENT
BEGIN:VEVENT
DTSTART;TZID=America/Denver:20201013T110000
DTEND;TZID=America/Denver:20201013T120000
DTSTAMP:20260424T135252
CREATED:20200921T172452Z
LAST-MODIFIED:20200921T172452Z
UID:8451-1602586800-1602590400@www.ironwoodwomenscenters.com
SUMMARY:SCS Virtual Lunch & Learn: Stereotactic Radiation Therapy for Lunch Cancer with Dr. Aaron Ambrad
DESCRIPTION:
URL:https://www.ironwoodwomenscenters.com/event/scs-virtual-lunch-learn-stereotactic-radiation-therapy-for-lunch-cancer-with-dr-aaron-ambrad/
CATEGORIES:Virtual event
END:VEVENT
BEGIN:VEVENT
DTSTART;TZID=America/Denver:20201012T100000
DTEND;TZID=America/Denver:20201012T120000
DTSTAMP:20260424T135252
CREATED:20201008T212032Z
LAST-MODIFIED:20201008T212032Z
UID:8503-1602496800-1602504000@www.ironwoodwomenscenters.com
SUMMARY:General Cancer Support Group
DESCRIPTION:
URL:https://www.ironwoodwomenscenters.com/event/general-cancer-support-group-18/
CATEGORIES:Support Group,Virtual event
END:VEVENT
BEGIN:VEVENT
DTSTART;TZID=America/Denver:20201010T100000
DTEND;TZID=America/Denver:20201010T120000
DTSTAMP:20260424T135252
CREATED:20201008T211946Z
LAST-MODIFIED:20201008T211946Z
UID:8501-1602324000-1602331200@www.ironwoodwomenscenters.com
SUMMARY:Breast Cancer Support Group
DESCRIPTION:
URL:https://www.ironwoodwomenscenters.com/event/breast-cancer-support-group-14/
CATEGORIES:Support Group,Virtual event
END:VEVENT
END:VCALENDAR